BEGIN:VCALENDAR
PRODID:-//AT Content Types//AT Event//EN
VERSION:2.0
METHOD:PUBLISH
BEGIN:VEVENT
DTSTAMP:20260424T052122Z
CREATED:20191018T213446Z
UID:ATEvent-0bc7ea49feac4315a37937af9e6d8f4b
LAST-MODIFIED:20191018T213455Z
SUMMARY:Valutazione del rischio chimico
DTSTART:20191106T130000Z
DTEND:20191106T163000Z
DESCRIPTION:aggiornamenti in tema UNI 689\, REACH e CLP
LOCATION:Monza
CLASS:PUBLIC
END:VEVENT
END:VCALENDAR
