BEGIN:VCALENDAR
PRODID:-//AT Content Types//AT Event//EN
VERSION:1.0
BEGIN:VEVENT
DTSTART:20210415T080000Z
DTEND:20210415T093000Z
DCREATED:20210409T125202Z
UID:ATEvent-287c40d4c4794fd1971ee7e2f1d14a8a
SEQUENCE:0
LAST-MODIFIED:20210409T125206Z
SUMMARY:Valorizzare la sostenibilità delle aziende: strumenti e soluzioni per la crescita
LOCATION:On line
PRIORITY:3
TRANSP:0
END:VEVENT
END:VCALENDAR
