BEGIN:VCALENDAR
PRODID:-//AT Content Types//AT Event//EN
VERSION:1.0
BEGIN:VEVENT
DTSTART:20240229T160000Z
DTEND:20240229T173000Z
DCREATED:20240209T135356Z
UID:ATEvent-b127924162fb480e80a8c7168b48654d
SEQUENCE:0
LAST-MODIFIED:20240216T154921Z
SUMMARY:Valore infinito - A ogni impresa la propria governance
LOCATION:Bergamo
PRIORITY:3
TRANSP:0
END:VEVENT
END:VCALENDAR
