BEGIN:VCALENDAR
PRODID:-//AT Content Types//AT Event//EN
VERSION:2.0
METHOD:PUBLISH
BEGIN:VEVENT
DTSTAMP:20260421T213213Z
CREATED:20220228T154819Z
UID:ATEvent-6209497def9c4cb591fcd53f1f9302f2
LAST-MODIFIED:20220228T154828Z
SUMMARY:USA: procedure\, etichettatura e requisiti per esportare prodotti food & beverage in USA
DTSTART:20220303T140000Z
DTEND:20220303T153000Z
LOCATION:On line
CLASS:PUBLIC
END:VEVENT
END:VCALENDAR
