BEGIN:VCALENDAR
PRODID:-//AT Content Types//AT Event//EN
VERSION:1.0
BEGIN:VEVENT
DTSTART:20230704T130000Z
DTEND:20230704T150000Z
DCREATED:20230629T081819Z
UID:ATEvent-806fba5adf304de19449725495e9d776
SEQUENCE:0
LAST-MODIFIED:20230629T091100Z
SUMMARY:Undicesimo pacchetto di sanzioni UE verso la Russia
LOCATION:On line
PRIORITY:3
TRANSP:0
END:VEVENT
END:VCALENDAR
