BEGIN:VCALENDAR
PRODID:-//AT Content Types//AT Event//EN
VERSION:2.0
METHOD:PUBLISH
BEGIN:VEVENT
DTSTAMP:20260424T054855Z
CREATED:20220628T155116Z
UID:ATEvent-01b953746c334b01abd83c76f67c732e
LAST-MODIFIED:20220628T155120Z
SUMMARY:Una tantum di 200 euro prevista dal cd. Decreto aiuti – Primi chiarimenti in collaborazione con INPS
DTSTART:20220629T123000Z
DTEND:20220629T140000Z
LOCATION:On line
CLASS:PUBLIC
END:VEVENT
END:VCALENDAR
