BEGIN:VCALENDAR
PRODID:-//AT Content Types//AT Event//EN
VERSION:2.0
METHOD:PUBLISH
BEGIN:VEVENT
DTSTAMP:20260424T075615Z
CREATED:20201211T150243Z
UID:ATEvent-eaeb54ac8a4c495198189ccd53a11546
LAST-MODIFIED:20201211T150246Z
SUMMARY:Un uomo e la sua impresa. L'abisso e la risalita
DTSTART:20201217T170000Z
DTEND:20201217T180000Z
LOCATION:On line
CLASS:PUBLIC
END:VEVENT
END:VCALENDAR
