BEGIN:VCALENDAR
PRODID:-//AT Content Types//AT Event//EN
VERSION:2.0
METHOD:PUBLISH
BEGIN:VEVENT
DTSTAMP:20260423T215443Z
CREATED:20170925T144854Z
UID:ATEvent-7fe4f41786e2424ea0034c91ef36d139
LAST-MODIFIED:20170928T124218Z
SUMMARY:Miglioramento competitivo
DTSTART:20171012T130000Z
DTEND:20171012T160000Z
LOCATION:Bergamo
CLASS:PUBLIC
END:VEVENT
END:VCALENDAR
