BEGIN:VCALENDAR
PRODID:-//AT Content Types//AT Event//EN
VERSION:1.0
BEGIN:VEVENT
DTSTART:20180306T160000Z
DTEND:20180306T180000Z
DCREATED:20180301T171656Z
UID:ATEvent-08d1bc0982e044f283193f6ab8920c87
SEQUENCE:0
LAST-MODIFIED:20180301T171717Z
SUMMARY:Un futuro da costruire bene
DESCRIPTION:XXII Rapporto sull'Economia Globale e l'Italia
LOCATION:Como
PRIORITY:3
TRANSP:0
END:VEVENT
END:VCALENDAR
