BEGIN:VCALENDAR
PRODID:-//AT Content Types//AT Event//EN
VERSION:2.0
METHOD:PUBLISH
BEGIN:VEVENT
DTSTAMP:20260422T181710Z
CREATED:20250326T134513Z
UID:ATEvent-e3b4bb09fd894a99ae45415c87b22352
LAST-MODIFIED:20250326T134644Z
SUMMARY:Un Aperitivo con... Niccolò Ferragamo
DTSTART:20250327T173000Z
DTEND:20250327T193000Z
DESCRIPTION:L'aperitivo di business networking del Gruppo Giovani Impr
 enditori Assolombarda Informazioni
LOCATION:Milano
CLASS:PUBLIC
END:VEVENT
END:VCALENDAR
