BEGIN:VCALENDAR
PRODID:-//AT Content Types//AT Event//EN
VERSION:2.0
METHOD:PUBLISH
BEGIN:VEVENT
DTSTAMP:20260419T163155Z
CREATED:20250203T151048Z
UID:ATEvent-558530fed389473e92e431372576143e
LAST-MODIFIED:20250205T141948Z
SUMMARY:Un Aperitivo con .. Adriana Pontecorvo - Ferrarelle SpA Società Benefit
DTSTART:20250218T173000Z
DTEND:20250218T193000Z
DESCRIPTION:L'aperitivo di business networking del Gruppo Giovani Impr
 enditori Assolombarda Informazioni
LOCATION:Milano
CLASS:PUBLIC
END:VEVENT
END:VCALENDAR
