BEGIN:VCALENDAR
PRODID:-//AT Content Types//AT Event//EN
VERSION:1.0
BEGIN:VEVENT
DTSTART:20211203T140000Z
DTEND:20211203T153000Z
DCREATED:20211202T160201Z
UID:ATEvent-b97b4074094f4f3c9f6974dabdfaf9d3
SEQUENCE:0
LAST-MODIFIED:20211202T160209Z
SUMMARY:UK: stabile organizzazione e branch
LOCATION:On line
PRIORITY:3
TRANSP:0
END:VEVENT
END:VCALENDAR
