BEGIN:VCALENDAR
PRODID:-//AT Content Types//AT Event//EN
VERSION:2.0
METHOD:PUBLISH
BEGIN:VEVENT
DTSTAMP:20260424T093849Z
CREATED:20211007T155227Z
UID:ATEvent-ba98990d7ca54fb5b87294cdaded02b1
LAST-MODIFIED:20211007T155238Z
SUMMARY:UK: Import/Export ed incombenze Vat dopo la Brexit
DTSTART:20211008T123000Z
DTEND:20211008T140000Z
LOCATION:On line
CLASS:PUBLIC
END:VEVENT
END:VCALENDAR
