BEGIN:VCALENDAR
PRODID:-//AT Content Types//AT Event//EN
VERSION:2.0
METHOD:PUBLISH
BEGIN:VEVENT
DTSTAMP:20260421T082602Z
CREATED:20250509T140748Z
UID:ATEvent-d7bff10c6e344a8aa53c93d2807045f5
LAST-MODIFIED:20250513T103938Z
SUMMARY:Twin Transition: la sfida delle competenze per l'industria chimica
DTSTART:20250520T140000Z
DTEND:20250520T160000Z
DESCRIPTION:Convegno gruppo chimici\, gomma e materie plastiche di Con
 findustria Como e Federchimica
LOCATION:Como
CLASS:PUBLIC
END:VEVENT
END:VCALENDAR
