BEGIN:VCALENDAR
PRODID:-//AT Content Types//AT Event//EN
VERSION:1.0
BEGIN:VEVENT
DTSTART:20180222T083000Z
DTEND:20180222T113000Z
DCREATED:20180216T151959Z
UID:ATEvent-bc12108a6ba5471d82db144edbeae30d
SEQUENCE:0
LAST-MODIFIED:20180216T152010Z
SUMMARY:Turchia: nuove sfide per le imprese italiane
LOCATION:Milano
PRIORITY:3
TRANSP:0
END:VEVENT
END:VCALENDAR
