BEGIN:VCALENDAR
PRODID:-//AT Content Types//AT Event//EN
VERSION:2.0
METHOD:PUBLISH
BEGIN:VEVENT
DTSTAMP:20260425T131227Z
CREATED:20231124T141627Z
UID:ATEvent-71eae74f5287498980080f7630a4d7c7
LAST-MODIFIED:20231124T141649Z
SUMMARY:Trend futuri per l’innovazione digitale nello scenario globale: dalle life sciences ai servizi sanitari
DTSTART:20231215T140000Z
DTEND:20231215T153000Z
DESCRIPTION:Quinto appuntamento del ciclo di incontri "Digital Health 
 Revolution" rivolto alle imprese della Sezione Terapie e tecnologie pe
 r la vita di Assolombarda.
LOCATION:Online
CLASS:PUBLIC
END:VEVENT
END:VCALENDAR
