BEGIN:VCALENDAR
PRODID:-//AT Content Types//AT Event//EN
VERSION:1.0
BEGIN:VEVENT
DTSTART:20151020T080000Z
DTEND:20151020T103000Z
DCREATED:20151012T131600Z
UID:ATEvent-69724cefd7cb478889ec3814602f16d8
SEQUENCE:0
LAST-MODIFIED:20151013T100359Z
SUMMARY:Tre miliardi di buoni motivi per fare innovazione: dal credito d'imposta alla R&S ai nuovi incentivi regionali
DESCRIPTION:A tanti miliardi di euro ammontano\, stimati per difetto\,
  i nuovi contributi pubblici previsti per le imprese per incentivare l
 a ricerca e l'innovazione.
LOCATION:Milano
PRIORITY:3
TRANSP:0
END:VEVENT
END:VCALENDAR
