BEGIN:VCALENDAR
PRODID:-//AT Content Types//AT Event//EN
VERSION:2.0
METHOD:PUBLISH
BEGIN:VEVENT
DTSTAMP:20260422T200158Z
CREATED:20190527T123143Z
UID:ATEvent-43575a1497d744adb7f40269e2a7a0db
LAST-MODIFIED:20190603T133455Z
SUMMARY:Travel Safety & Security
DTSTART:20190606T073000Z
DTEND:20190606T110000Z
DESCRIPTION:L’approfondimento del contesto geopolitico e normativo
LOCATION:Milano
CLASS:PUBLIC
END:VEVENT
END:VCALENDAR
