BEGIN:VCALENDAR
PRODID:-//AT Content Types//AT Event//EN
VERSION:2.0
METHOD:PUBLISH
BEGIN:VEVENT
DTSTAMP:20260422T214552Z
CREATED:20190923T145211Z
UID:ATEvent-06bfa1d7c4aa41e4a4ba3324e58f317e
LAST-MODIFIED:20190923T145231Z
SUMMARY:Travel Safety & Security
DTSTART:20191008T073000Z
DTEND:20191008T110000Z
DESCRIPTION:La gestione della salute e sicurezza del lavoratore all'es
 tero
LOCATION:Milano
CLASS:PUBLIC
END:VEVENT
END:VCALENDAR
