BEGIN:VCALENDAR
PRODID:-//AT Content Types//AT Event//EN
VERSION:2.0
METHOD:PUBLISH
BEGIN:VEVENT
DTSTAMP:20260421T093916Z
CREATED:20241126T113415Z
UID:ATEvent-c9e87d65545b4c4490ea8758afb5542e
LAST-MODIFIED:20241126T133143Z
SUMMARY:Trasporto ferroviario e intermodale per una supply chain sostenibile: ESG\, contratto di trasporto e opportunità per le imprese
DTSTART:20241204T090000Z
DTEND:20241204T110000Z
DESCRIPTION:L'incontro ha l’obiettivo di fornire un supporto alle im
 prese per una migliore conoscenza della normativa di riferimento e deg
 li strumenti operativi per una gestione più efficace e sostenibile de
 lla logistica merci aziendale.
LOCATION:online
CLASS:PUBLIC
END:VEVENT
END:VCALENDAR
