BEGIN:VCALENDAR
PRODID:-//AT Content Types//AT Event//EN
VERSION:1.0
BEGIN:VEVENT
DTSTART:20211011T123000Z
DTEND:20211011T140000Z
DCREATED:20211007T164814Z
UID:ATEvent-b5889f7089e04d3696223eef213cacc1
SEQUENCE:0
LAST-MODIFIED:20211015T142049Z
SUMMARY:Trasporti e Logistica in ottica circolare: la trasformazione in atto
DESCRIPTION:1° incontro del ciclo: "Economia circolare? Parliamone di
  lunedì"
LOCATION:On line
PRIORITY:3
TRANSP:0
END:VEVENT
END:VCALENDAR
