BEGIN:VCALENDAR
PRODID:-//AT Content Types//AT Event//EN
VERSION:1.0
BEGIN:VEVENT
DTSTART:20220914T130000Z
DTEND:20220914T160000Z
DCREATED:20220909T161212Z
UID:ATEvent-61fed8fbbca14bec85f5752e8c2f0f86
SEQUENCE:0
LAST-MODIFIED:20220911T204007Z
SUMMARY:Trasformazione digitale e sostenibile per le filiere energivore
LOCATION:Stezzano (BG)
PRIORITY:3
TRANSP:0
END:VEVENT
END:VCALENDAR
