BEGIN:VCALENDAR
PRODID:-//AT Content Types//AT Event//EN
VERSION:2.0
METHOD:PUBLISH
BEGIN:VEVENT
DTSTAMP:20260422T085250Z
CREATED:20211203T160847Z
UID:ATEvent-45612d26baf3449eb070d5873a80c46a
LAST-MODIFIED:20211210T141826Z
SUMMARY:TOP500+ edizione 2021
DTSTART:20211213T160000Z
DTEND:20211213T180000Z
LOCATION:Monza
CLASS:PUBLIC
END:VEVENT
END:VCALENDAR
