BEGIN:VCALENDAR
PRODID:-//AT Content Types//AT Event//EN
VERSION:1.0
BEGIN:VEVENT
DTSTART:20211216T163000Z
DTEND:20211216T183000Z
DCREATED:20211214T230019Z
UID:ATEvent-e7329d30fc834483987aebe1a851b8d0
SEQUENCE:0
LAST-MODIFIED:20211214T230059Z
SUMMARY:Top200 Lodi - Edizione 2021
DESCRIPTION:Presentazione della ricerca TOP200
LOCATION:Lodi
PRIORITY:3
TRANSP:0
END:VEVENT
END:VCALENDAR
