BEGIN:VCALENDAR
PRODID:-//AT Content Types//AT Event//EN
VERSION:2.0
METHOD:PUBLISH
BEGIN:VEVENT
DTSTAMP:20260422T065047Z
CREATED:20161114T163038Z
UID:ATEvent-ec1811202a86446bbcf7232e46e0f341
LAST-MODIFIED:20161114T163112Z
SUMMARY:TOP 500+ Le eccellenze del Modello Brianza
DTSTART:20161128T163000Z
DTEND:20161128T190000Z
DESCRIPTION:Organizzato da: Assolombarda Confindustria Milano Monza e 
 Brianza\, PwC \, il Cittadino e Camera di Commercio Monza e Brianza\, 
 con il sostegno di BPM\, Ecole e Umana
LOCATION:Monza
CLASS:PUBLIC
END:VEVENT
END:VCALENDAR
