BEGIN:VCALENDAR
PRODID:-//AT Content Types//AT Event//EN
VERSION:1.0
BEGIN:VEVENT
DTSTART:20241203T163000Z
DTEND:20241203T183000Z
DCREATED:20241126T112005Z
UID:ATEvent-0853bf0236324438b6d16624adfb3d9d
SEQUENCE:0
LAST-MODIFIED:20241126T132824Z
SUMMARY:Top 1000 Monza Brianza 2024
LOCATION:Monza
PRIORITY:3
TRANSP:0
END:VEVENT
END:VCALENDAR
