BEGIN:VCALENDAR
PRODID:-//AT Content Types//AT Event//EN
VERSION:2.0
METHOD:PUBLISH
BEGIN:VEVENT
DTSTAMP:20260422T160928Z
CREATED:20190922T212506Z
UID:ATEvent-cfd6b04828be441595b4c809f9a14dcc
LAST-MODIFIED:20190922T212512Z
SUMMARY:Tieni monitorata la tua Centrale Rischi?
DTSTART:20191001T123000Z
DTEND:20191001T153000Z
LOCATION:Milano
CLASS:PUBLIC
END:VEVENT
END:VCALENDAR
