BEGIN:VCALENDAR
PRODID:-//AT Content Types//AT Event//EN
VERSION:1.0
BEGIN:VEVENT
DTSTART:20210331T060000Z
DTEND:20210331T160000Z
DCREATED:20210324T220445Z
UID:ATEvent-0040b3f312b14f02901a0363292e6ca9
SEQUENCE:0
LAST-MODIFIED:20210324T220450Z
SUMMARY:Ti presento una startup - Edizione 2021
DESCRIPTION:Scadenza iscrizioni
LOCATION:On line
PRIORITY:3
TRANSP:0
END:VEVENT
END:VCALENDAR
