BEGIN:VCALENDAR
PRODID:-//AT Content Types//AT Event//EN
VERSION:2.0
METHOD:PUBLISH
BEGIN:VEVENT
DTSTAMP:20260424T052756Z
CREATED:20230120T145557Z
UID:ATEvent-03b978aa210b4fc7a489e604119aad4a
LAST-MODIFIED:20230123T110128Z
SUMMARY:Textile Innovation Day 2023
DTSTART:20230209T093000Z
DTEND:20230209T143000Z
CLASS:PUBLIC
END:VEVENT
END:VCALENDAR
