BEGIN:VCALENDAR
PRODID:-//AT Content Types//AT Event//EN
VERSION:1.0
BEGIN:VEVENT
DTSTART:20210907T083000Z
DTEND:20210907T103000Z
DCREATED:20210728T155010Z
UID:ATEvent-ce500550cb5d4e6c90a57fb2eb8f6a0f
SEQUENCE:0
LAST-MODIFIED:20210728T155231Z
SUMMARY:Territori digitali e circolari: visioni ed esperienze nazionali
LOCATION:On line
PRIORITY:3
TRANSP:0
END:VEVENT
END:VCALENDAR
