BEGIN:VCALENDAR
PRODID:-//AT Content Types//AT Event//EN
VERSION:1.0
BEGIN:VEVENT
DTSTART:20210412T143000Z
DTEND:20210412T153000Z
DCREATED:20210409T123334Z
UID:ATEvent-d8f59a26b58c4ec6a9c8578eba4b42b6
SEQUENCE:0
LAST-MODIFIED:20210409T123435Z
SUMMARY:Tecnologie Digitali e Smart Working
DESCRIPTION:Primo appuntamento della serie “SummIT in pillole”\, i
  digital talk del Terziario
LOCATION:On line
PRIORITY:3
TRANSP:0
END:VEVENT
END:VCALENDAR
