BEGIN:VCALENDAR
PRODID:-//AT Content Types//AT Event//EN
VERSION:2.0
METHOD:PUBLISH
BEGIN:VEVENT
DTSTAMP:20260421T152621Z
CREATED:20210121T112911Z
UID:ATEvent-03246d715c3e468fa7db9e553e9e02b7
LAST-MODIFIED:20210204T104836Z
SUMMARY:Technology & Business Cooperation Days – Hannover Messe 2021
DTSTART:20210412T070000Z
DTEND:20210415T160000Z
LOCATION:Online (piattaforma b2match)
CLASS:PUBLIC
END:VEVENT
END:VCALENDAR
