BEGIN:VCALENDAR
PRODID:-//AT Content Types//AT Event//EN
VERSION:2.0
METHOD:PUBLISH
BEGIN:VEVENT
DTSTAMP:20260424T090730Z
CREATED:20190108T161625Z
UID:ATEvent-af5e2c7426f441d5935f284a7a3b5a80
LAST-MODIFIED:20190108T161632Z
SUMMARY:#TechMission 2019 CES Las Vegas – San Diego
DTSTART:20190106T080000Z
DTEND:20190114T170000Z
LOCATION:Las Vegas – San Diego
CLASS:PUBLIC
END:VEVENT
END:VCALENDAR
