BEGIN:VCALENDAR
PRODID:-//AT Content Types//AT Event//EN
VERSION:1.0
BEGIN:VEVENT
DTSTART:20220913T050000Z
DTEND:20220913T190000Z
DCREATED:20220805T140919Z
UID:ATEvent-629bee8e229e4261b1a922592fa03348
SEQUENCE:0
LAST-MODIFIED:20220805T140946Z
SUMMARY:Tech Tour Light Emilia - Motor valley e meccatronica avanzata
LOCATION:Parma e Bologna
PRIORITY:3
TRANSP:0
END:VEVENT
END:VCALENDAR
