BEGIN:VCALENDAR
PRODID:-//AT Content Types//AT Event//EN
VERSION:1.0
BEGIN:VEVENT
DTSTART:20240312T150000Z
DTEND:20240312T170000Z
DCREATED:20240212T152615Z
UID:ATEvent-7b240652f6f84c93bfc15e0dde540a0f
SEQUENCE:0
LAST-MODIFIED:20240212T152629Z
SUMMARY:Tea Time con l'avvocato - Primo incontro
DESCRIPTION:Gruppi di imprese e rapporti di lavoro: dalle implicazioni
  di diritto sindacale alla gestione degli esuberi\, passando attravers
 o i riflessi sulla gestione dei rapporti di lavoro.
LOCATION:Milano
PRIORITY:3
TRANSP:0
END:VEVENT
END:VCALENDAR
