BEGIN:VCALENDAR
PRODID:-//AT Content Types//AT Event//EN
VERSION:1.0
BEGIN:VEVENT
DTSTART:20190619T123000Z
DTEND:20190619T153000Z
DCREATED:20190530T160301Z
UID:ATEvent-fd43e8c85bc546ed9f9edd8b49fef6d2
SEQUENCE:0
LAST-MODIFIED:20190530T160307Z
SUMMARY:Tassazione del reddito di lavoro dipendente
DESCRIPTION:4° Incontro
LOCATION:Milano e Monza
PRIORITY:3
TRANSP:0
END:VEVENT
END:VCALENDAR
