BEGIN:VCALENDAR
PRODID:-//AT Content Types//AT Event//EN
VERSION:2.0
METHOD:PUBLISH
BEGIN:VEVENT
DTSTAMP:20260425T233716Z
CREATED:20161018T131701Z
UID:ATEvent-04c8f28ff58e44b4be325aa7fafefd42
LAST-MODIFIED:20161018T131716Z
SUMMARY:Tariffe INAIL\, modello OT24
DTSTART:20161109T083000Z
DTEND:20161109T113000Z
DESCRIPTION:incontro dedicato in AIB
LOCATION:Brescia
CLASS:PUBLIC
END:VEVENT
END:VCALENDAR
