BEGIN:VCALENDAR
PRODID:-//AT Content Types//AT Event//EN
VERSION:1.0
BEGIN:VEVENT
DTSTART:20240703T140000Z
DTEND:20240703T160000Z
DCREATED:20240703T135942Z
UID:ATEvent-e352419cf53d4a0284c8c270e3210518
SEQUENCE:0
LAST-MODIFIED:20240703T135944Z
SUMMARY:Talento e formazione: l'essenza delle Academy aziendali
DESCRIPTION:Non sono cose da Grandi Ã¨ un ciclo di seminari multidisci
 plinari che ha lo scopo di sensibilizzare i piccoli imprenditori sullâ
 €™importanza di conoscere e approfondire alcune tematiche erroneamente
  percepite come di esclusivo dominio ed interesse delle Grandi Imprese
 .\nIl format dei seminari prevede un breve intervento di esperti e alc
 une testimonianze di Piccoli Imprenditori che hanno affrontato il tema
  e un dibattito finale.
LOCATION:Milano
PRIORITY:3
TRANSP:0
END:VEVENT
END:VCALENDAR
