BEGIN:VCALENDAR
PRODID:-//AT Content Types//AT Event//EN
VERSION:1.0
BEGIN:VEVENT
DTSTART:20220622T063000Z
DTEND:20220622T083000Z
DCREATED:20220617T123051Z
UID:ATEvent-40712962afc044c6b779feee2bf9d168
SEQUENCE:0
LAST-MODIFIED:20220617T123159Z
SUMMARY:Talent acquisition: l’innovazione al servizio del potenziale umano
LOCATION:Milano
PRIORITY:3
TRANSP:0
END:VEVENT
END:VCALENDAR
