BEGIN:VCALENDAR
PRODID:-//AT Content Types//AT Event//EN
VERSION:2.0
METHOD:PUBLISH
BEGIN:VEVENT
DTSTAMP:20260424T172842Z
CREATED:20160714T151102Z
UID:ATEvent-1e87e385ea23482e80788446756b0328
LAST-MODIFIED:20160714T151248Z
SUMMARY:Switch: siamo disposti ad essere qualcosa di diverso?
DTSTART:20160719T160000Z
DTEND:20160719T180000Z
LOCATION:Milano
CLASS:PUBLIC
END:VEVENT
END:VCALENDAR
