BEGIN:VCALENDAR
PRODID:-//AT Content Types//AT Event//EN
VERSION:1.0
BEGIN:VEVENT
DTSTART:20230612T130000Z
DTEND:20230612T150000Z
DCREATED:20230529T154606Z
UID:ATEvent-afe26e62fd9643ee90ee39ecea9b2cd1
SEQUENCE:0
LAST-MODIFIED:20230531T152155Z
SUMMARY:Sviluppo sostenibile: le sfide di oggi per l’industria di domani. Presentazione della piattaforma Open-es
LOCATION:Bergamo
PRIORITY:3
TRANSP:0
END:VEVENT
END:VCALENDAR
