BEGIN:VCALENDAR
PRODID:-//AT Content Types//AT Event//EN
VERSION:1.0
BEGIN:VEVENT
DTSTART:20170516T073000Z
DTEND:20170516T153000Z
DCREATED:20170427T200330Z
UID:ATEvent-1a497655922a44f297b5fa46407155f3
SEQUENCE:0
LAST-MODIFIED:20170427T200351Z
SUMMARY:Sviluppo Sostenibile - Come valutare e comunicare l'impatto ambientale del prodotto
LOCATION:Milano
PRIORITY:3
TRANSP:0
END:VEVENT
END:VCALENDAR
