BEGIN:VCALENDAR
PRODID:-//AT Content Types//AT Event//EN
VERSION:1.0
BEGIN:VEVENT
DTSTART:20180306T134500Z
DTEND:20180306T163000Z
DCREATED:20180222T162416Z
UID:ATEvent-a74f8d12c5654db7be1307786cf325fd
SEQUENCE:0
LAST-MODIFIED:20180222T162910Z
SUMMARY:Sviluppo Lombardia - le misure finanziarie a sostegno delle imprese
LOCATION:Legnano (MI)
PRIORITY:3
TRANSP:0
END:VEVENT
END:VCALENDAR
