BEGIN:VCALENDAR
PRODID:-//AT Content Types//AT Event//EN
VERSION:1.0
BEGIN:VEVENT
DTSTART:20160718T133000Z
DTEND:20160718T163000Z
DCREATED:20160706T143639Z
UID:ATEvent-3e7a76fab4ba4a21ba3ddbb494a545d6
SEQUENCE:0
LAST-MODIFIED:20160706T143710Z
SUMMARY:Sviluppo È Ambiente. Si può fare!
DESCRIPTION:Pavia 2020 un piano industriale a misura d'ambiente
LOCATION:Pavia
PRIORITY:3
TRANSP:0
END:VEVENT
END:VCALENDAR
