BEGIN:VCALENDAR
PRODID:-//AT Content Types//AT Event//EN
VERSION:2.0
METHOD:PUBLISH
BEGIN:VEVENT
DTSTAMP:20260423T072946Z
CREATED:20191008T161719Z
UID:ATEvent-8ed2e6cd19944dcbbe2458ff382c5eb4
LAST-MODIFIED:20191008T161749Z
SUMMARY:SUMMIT X Edizione: Aria Fresca!
DTSTART:20191010T120000Z
DTEND:20191010T170000Z
LOCATION:Erbusco (BS)
CLASS:PUBLIC
END:VEVENT
END:VCALENDAR
