BEGIN:VCALENDAR
PRODID:-//AT Content Types//AT Event//EN
VERSION:2.0
METHOD:PUBLISH
BEGIN:VEVENT
DTSTAMP:20260423T044151Z
CREATED:20191008T162603Z
UID:ATEvent-cee7607c1f1b42a9b1a4800ecd7658de
LAST-MODIFIED:20191008T162626Z
SUMMARY:SUMMIT PROFESSIONAL - X Edizione: Aria Sicura!
DTSTART:20191010T070000Z
DTEND:20191010T103000Z
LOCATION:Erbusco (BS)
CLASS:PUBLIC
END:VEVENT
END:VCALENDAR
