BEGIN:VCALENDAR
PRODID:-//AT Content Types//AT Event//EN
VERSION:1.0
BEGIN:VEVENT
DTSTART:20211213T100000Z
DTEND:20211213T120000Z
DCREATED:20211210T141455Z
UID:ATEvent-ad8786d6b5de4955998f8cb52f6a3616
SEQUENCE:0
LAST-MODIFIED:20211210T141511Z
SUMMARY:Strumento di calcolo del costo del lavoro
LOCATION:On line
PRIORITY:3
TRANSP:0
END:VEVENT
END:VCALENDAR
