BEGIN:VCALENDAR
PRODID:-//AT Content Types//AT Event//EN
VERSION:2.0
METHOD:PUBLISH
BEGIN:VEVENT
DTSTAMP:20260424T150816Z
CREATED:20210331T172011Z
UID:ATEvent-c3f46b7c4e39439dbff5a349a75696cd
LAST-MODIFIED:20210331T180937Z
SUMMARY:Strumenti previdenziali di flessibilità e accompagnamento alla pensione dei lavoratori
DTSTART:20210408T080000Z
DTEND:20210408T093000Z
LOCATION:On line
CLASS:PUBLIC
END:VEVENT
END:VCALENDAR
