BEGIN:VCALENDAR
PRODID:-//AT Content Types//AT Event//EN
VERSION:1.0
BEGIN:VEVENT
DTSTART:20161026T070000Z
DTEND:20161026T110000Z
DCREATED:20161017T152958Z
UID:ATEvent-eda095665a5d41d58c2dd95d8e3d70d1
SEQUENCE:0
LAST-MODIFIED:20161017T153020Z
SUMMARY:Strumenti per green marketing e green management
LOCATION:Monza
PRIORITY:3
TRANSP:0
END:VEVENT
END:VCALENDAR
