BEGIN:VCALENDAR
PRODID:-//AT Content Types//AT Event//EN
VERSION:2.0
METHOD:PUBLISH
BEGIN:VEVENT
DTSTAMP:20260424T054222Z
CREATED:20180703T143617Z
UID:ATEvent-c8e1524b2042404d82177593be6da525
LAST-MODIFIED:20180710T131533Z
SUMMARY:ANNULLATO! Strumenti digitali per l’impresa
DTSTART:20180712T073000Z
DTEND:20180712T110000Z
DESCRIPTION:Partiamo da SPID Incontro c/o il Presidio di Monza
LOCATION:Monza
CLASS:PUBLIC
END:VEVENT
END:VCALENDAR
